BEGIN:VCALENDAR
VERSION:2.0
PRODID:-//Brandy Vallance Literary Agent &amp; Author - ECPv6.15.20//NONSGML v1.0//EN
CALSCALE:GREGORIAN
METHOD:PUBLISH
X-WR-CALNAME:Brandy Vallance Literary Agent &amp; Author
X-ORIGINAL-URL:https://www.brandyvallance.com
X-WR-CALDESC:Events for Brandy Vallance Literary Agent &amp; Author
REFRESH-INTERVAL;VALUE=DURATION:PT1H
X-Robots-Tag:noindex
X-PUBLISHED-TTL:PT1H
BEGIN:VTIMEZONE
TZID:America/New_York
BEGIN:DAYLIGHT
TZOFFSETFROM:-0500
TZOFFSETTO:-0400
TZNAME:EDT
DTSTART:20250309T070000
END:DAYLIGHT
BEGIN:STANDARD
TZOFFSETFROM:-0400
TZOFFSETTO:-0500
TZNAME:EST
DTSTART:20251102T060000
END:STANDARD
BEGIN:DAYLIGHT
TZOFFSETFROM:-0500
TZOFFSETTO:-0400
TZNAME:EDT
DTSTART:20260308T070000
END:DAYLIGHT
BEGIN:STANDARD
TZOFFSETFROM:-0400
TZOFFSETTO:-0500
TZNAME:EST
DTSTART:20261101T060000
END:STANDARD
BEGIN:DAYLIGHT
TZOFFSETFROM:-0500
TZOFFSETTO:-0400
TZNAME:EDT
DTSTART:20270314T070000
END:DAYLIGHT
BEGIN:STANDARD
TZOFFSETFROM:-0400
TZOFFSETTO:-0500
TZNAME:EST
DTSTART:20271107T060000
END:STANDARD
END:VTIMEZONE
BEGIN:VEVENT
DTSTART;TZID=America/New_York:20260107T180000
DTEND;TZID=America/New_York:20260107T200000
DTSTAMP:20260423T165314
CREATED:20251230T143239Z
LAST-MODIFIED:20251230T143239Z
UID:1642-1767808800-1767816000@www.brandyvallance.com
SUMMARY:Fiction Feedback Opportunity
DESCRIPTION:Would you like some feedback from a literary agent? Here’s your chance! \nOn January 7\, 2026 at 6PM EST I’ll be on Zoom in a virtual cafe. Bring a cup of tea or coffee and some pages. You can read up to 5 double spaced pages and then you’ll get live feedback from me and others. \nIf you would like to read\, here are the steps: \nGo to Patreon.com/brandyvallance \nUse this coupon for a FREE month. Limited to 5 people. ⬇️ \nhttps://www.patreon.com/BrandyVallance/redeem/8E064 \nFind the Fiction Feedback post and sign up on the Zoom link. Then send me a direct message on the Patreon platform. \nDepending on how many are interested\, the page count might go up. 📈✍🏻 \nWe’re going deeper in 2026. Are you ready for this? 🙂 \nAll welcome! Even if you’re not reading\, come support the brave ones stepping up to the mic. It’s going to be a fun night! \nPatreon is my teaching platform where I do live monthly mentoring and more. You can access hundreds of behind the scenes conversations about publishing and author land. \nDid you miss the coupon and you really can’t afford to join? It’s $25 for The Chain Breaker tier. Send me a message on Instagram and I’ll give you a scholarship. 🌟🌟🌟🌟🌟
URL:https://www.brandyvallance.com/event/fiction-feedback-opportunity/
LOCATION:Online
END:VEVENT
END:VCALENDAR