BEGIN:VCALENDAR
VERSION:2.0
PRODID:-//Brandy Vallance Literary Agent &amp; Author - ECPv6.15.20//NONSGML v1.0//EN
CALSCALE:GREGORIAN
METHOD:PUBLISH
X-ORIGINAL-URL:https://www.brandyvallance.com
X-WR-CALDESC:Events for Brandy Vallance Literary Agent &amp; Author
REFRESH-INTERVAL;VALUE=DURATION:PT1H
X-Robots-Tag:noindex
X-PUBLISHED-TTL:PT1H
BEGIN:VTIMEZONE
TZID:America/New_York
BEGIN:DAYLIGHT
TZOFFSETFROM:-0500
TZOFFSETTO:-0400
TZNAME:EDT
DTSTART:20250309T070000
END:DAYLIGHT
BEGIN:STANDARD
TZOFFSETFROM:-0400
TZOFFSETTO:-0500
TZNAME:EST
DTSTART:20251102T060000
END:STANDARD
BEGIN:DAYLIGHT
TZOFFSETFROM:-0500
TZOFFSETTO:-0400
TZNAME:EDT
DTSTART:20260308T070000
END:DAYLIGHT
BEGIN:STANDARD
TZOFFSETFROM:-0400
TZOFFSETTO:-0500
TZNAME:EST
DTSTART:20261101T060000
END:STANDARD
BEGIN:DAYLIGHT
TZOFFSETFROM:-0500
TZOFFSETTO:-0400
TZNAME:EDT
DTSTART:20270314T070000
END:DAYLIGHT
BEGIN:STANDARD
TZOFFSETFROM:-0400
TZOFFSETTO:-0500
TZNAME:EST
DTSTART:20271107T060000
END:STANDARD
END:VTIMEZONE
BEGIN:VEVENT
DTSTART;TZID=America/New_York:20260208T080000
DTEND;TZID=America/New_York:20260208T170000
DTSTAMP:20260423T152902
CREATED:20260105T190552Z
LAST-MODIFIED:20260105T190552Z
UID:1661-1770537600-1770570000@www.brandyvallance.com
SUMMARY:Writing Away Refuge Zoom Pitch Retreat
DESCRIPTION:  \n\n\n\n\n\n\nWorkshop your pitch. Pitch the agent.\n\nREGISTER HERE: https://www.writingawayrefuge.com/copy-of-writing-away-refuge-pitch-ret \n\n\nReady to meet your new writing community? \nAt Writing Away Refuge\, we are all about support and helping you craft your best book and make solid industry connections. The focus of our virtual pitch retreat on February 7-8\, 2026 \nis powerful story development and delivering a winning pitch.   \nWe have workshops to help you perfect your craft and time allotted for practice pitch sessions as well. \n​ \nAnd\, best of all\, we have 12 literary agents ready to listen to your pitches! \n\nYou’ll spend the weekend in the comfort of your own home participating in workshops to make your book the best it can be\, getting to know and connect with fellow writers\, and pitching your completed book to agents if you’re at that level in your writing journey (we have special pricing if you only need the workshops but no agent pitches). The Writing Away Virtual Pitch Retreat has it all. During the virtual retreat\, we will have author chats\, drawings for incredible prizes (like free services\, gift cards\, and free memberships to Writing Away)\, and workshops by amazing industry professionals. Don’t miss out! \n(You may register for the full retreat that includes agent pitches or for workshops only) \n​ \n**Please note that pitch sessions with agents are on a first come\, first served basis and WILL fill up quickly. \nIt is best to register early and make your agent selections to ensure you receive your agent preferences. If a desired agent’s sessions fill\, you will be allowed to submit a written query through our Writing Away Refuge portal that will be reviewed by those agents with priority. Thank you!**
URL:https://www.brandyvallance.com/event/writing-away-refuge-zoom-pitch-retreat/
LOCATION:Online
END:VEVENT
END:VCALENDAR