BEGIN:VCALENDAR
VERSION:2.0
PRODID:-//Brandy Vallance Literary Agent &amp; Author - ECPv6.15.20//NONSGML v1.0//EN
CALSCALE:GREGORIAN
METHOD:PUBLISH
X-WR-CALNAME:Brandy Vallance Literary Agent &amp; Author
X-ORIGINAL-URL:https://www.brandyvallance.com
X-WR-CALDESC:Events for Brandy Vallance Literary Agent &amp; Author
REFRESH-INTERVAL;VALUE=DURATION:PT1H
X-Robots-Tag:noindex
X-PUBLISHED-TTL:PT1H
BEGIN:VTIMEZONE
TZID:America/New_York
BEGIN:DAYLIGHT
TZOFFSETFROM:-0500
TZOFFSETTO:-0400
TZNAME:EDT
DTSTART:20240310T070000
END:DAYLIGHT
BEGIN:STANDARD
TZOFFSETFROM:-0400
TZOFFSETTO:-0500
TZNAME:EST
DTSTART:20241103T060000
END:STANDARD
BEGIN:DAYLIGHT
TZOFFSETFROM:-0500
TZOFFSETTO:-0400
TZNAME:EDT
DTSTART:20250309T070000
END:DAYLIGHT
BEGIN:STANDARD
TZOFFSETFROM:-0400
TZOFFSETTO:-0500
TZNAME:EST
DTSTART:20251102T060000
END:STANDARD
BEGIN:DAYLIGHT
TZOFFSETFROM:-0500
TZOFFSETTO:-0400
TZNAME:EDT
DTSTART:20260308T070000
END:DAYLIGHT
BEGIN:STANDARD
TZOFFSETFROM:-0400
TZOFFSETTO:-0500
TZNAME:EST
DTSTART:20261101T060000
END:STANDARD
END:VTIMEZONE
BEGIN:VEVENT
DTSTART;TZID=America/New_York:20250906T080000
DTEND;TZID=America/New_York:20250906T170000
DTSTAMP:20260423T181208
CREATED:20250720T151401Z
LAST-MODIFIED:20250720T151817Z
UID:1380-1757145600-1757178000@www.brandyvallance.com
SUMMARY:Pitch to Me at the Minnesota Writing Workshop
DESCRIPTION:  \nI’ll be taking online pitches again in September with Writing Day Workshop! So excited to meet amazing authors. ♥️ Anyone can pitch from anywhere. 🎉 \nminnesotawritingworkshop.com
URL:https://www.brandyvallance.com/event/pitch-to-me-at-the-minnesota-writing-workshop/
END:VEVENT
END:VCALENDAR