BEGIN:VCALENDAR
VERSION:2.0
PRODID:-//Brandy Vallance Literary Agent &amp; Author - ECPv6.15.20//NONSGML v1.0//EN
CALSCALE:GREGORIAN
METHOD:PUBLISH
X-WR-CALNAME:Brandy Vallance Literary Agent &amp; Author
X-ORIGINAL-URL:https://www.brandyvallance.com
X-WR-CALDESC:Events for Brandy Vallance Literary Agent &amp; Author
REFRESH-INTERVAL;VALUE=DURATION:PT1H
X-Robots-Tag:noindex
X-PUBLISHED-TTL:PT1H
BEGIN:VTIMEZONE
TZID:America/New_York
BEGIN:DAYLIGHT
TZOFFSETFROM:-0500
TZOFFSETTO:-0400
TZNAME:EDT
DTSTART:20240310T070000
END:DAYLIGHT
BEGIN:STANDARD
TZOFFSETFROM:-0400
TZOFFSETTO:-0500
TZNAME:EST
DTSTART:20241103T060000
END:STANDARD
BEGIN:DAYLIGHT
TZOFFSETFROM:-0500
TZOFFSETTO:-0400
TZNAME:EDT
DTSTART:20250309T070000
END:DAYLIGHT
BEGIN:STANDARD
TZOFFSETFROM:-0400
TZOFFSETTO:-0500
TZNAME:EST
DTSTART:20251102T060000
END:STANDARD
BEGIN:DAYLIGHT
TZOFFSETFROM:-0500
TZOFFSETTO:-0400
TZNAME:EDT
DTSTART:20260308T070000
END:DAYLIGHT
BEGIN:STANDARD
TZOFFSETFROM:-0400
TZOFFSETTO:-0500
TZNAME:EST
DTSTART:20261101T060000
END:STANDARD
END:VTIMEZONE
BEGIN:VEVENT
DTSTART;TZID=America/New_York:20251004T080000
DTEND;TZID=America/New_York:20251004T170000
DTSTAMP:20260423T193931
CREATED:20250720T153557Z
LAST-MODIFIED:20250720T153557Z
UID:1382-1759564800-1759597200@www.brandyvallance.com
SUMMARY:Pitch to me at the Florida Online Workshop
DESCRIPTION:I’ll be taking online pitches again in October with Writing Day Workshop! So excited to meet amazing authors. ♥️ Anyone can pitch from anywhere. 🎉 \nfloridawritingworkshops.com
URL:https://www.brandyvallance.com/event/pitch-to-me-at-the-florida-online-workshop/
END:VEVENT
BEGIN:VEVENT
DTSTART;TZID=America/New_York:20251016T180000
DTEND;TZID=America/New_York:20251016T190000
DTSTAMP:20260423T193931
CREATED:20250930T222252Z
LAST-MODIFIED:20250930T222324Z
UID:1507-1760637600-1760641200@www.brandyvallance.com
SUMMARY:Patreon October Fireside Chat - Join Me Live on Zoom 10/16/25 at 6PM EST
DESCRIPTION:Our September fireside chat was so exciting that I couldn’t wait to schedule the next one. Who knows what topics we’ll dive into next! \nTo get the Zoom link and join the meeting\, go to Patreon.com/brandyvallance and sign up to be a free member. You’ll see the post about the October Zoom meeting pinned to the top of the feed. \nYou can also join The Chain Breaker Tribe to unlock hundreds of videos\, including my workshops\, interviews\, private briefings\, and behind the scenes for members. \nBe sure to register for the Zoom!  I hope to see you there.
URL:https://www.brandyvallance.com/event/patreon-october-fireside-chat-join-me-live-on-zoom-10-16-25-at-6pm-est/
END:VEVENT
END:VCALENDAR