BEGIN:VCALENDAR
VERSION:2.0
PRODID:-//Brandy Vallance Literary Agent &amp; Author - ECPv6.15.20//NONSGML v1.0//EN
CALSCALE:GREGORIAN
METHOD:PUBLISH
X-ORIGINAL-URL:https://www.brandyvallance.com
X-WR-CALDESC:Events for Brandy Vallance Literary Agent &amp; Author
REFRESH-INTERVAL;VALUE=DURATION:PT1H
X-Robots-Tag:noindex
X-PUBLISHED-TTL:PT1H
BEGIN:VTIMEZONE
TZID:America/New_York
BEGIN:DAYLIGHT
TZOFFSETFROM:-0500
TZOFFSETTO:-0400
TZNAME:EDT
DTSTART:20240310T070000
END:DAYLIGHT
BEGIN:STANDARD
TZOFFSETFROM:-0400
TZOFFSETTO:-0500
TZNAME:EST
DTSTART:20241103T060000
END:STANDARD
BEGIN:DAYLIGHT
TZOFFSETFROM:-0500
TZOFFSETTO:-0400
TZNAME:EDT
DTSTART:20250309T070000
END:DAYLIGHT
BEGIN:STANDARD
TZOFFSETFROM:-0400
TZOFFSETTO:-0500
TZNAME:EST
DTSTART:20251102T060000
END:STANDARD
BEGIN:DAYLIGHT
TZOFFSETFROM:-0500
TZOFFSETTO:-0400
TZNAME:EDT
DTSTART:20260308T070000
END:DAYLIGHT
BEGIN:STANDARD
TZOFFSETFROM:-0400
TZOFFSETTO:-0500
TZNAME:EST
DTSTART:20261101T060000
END:STANDARD
END:VTIMEZONE
BEGIN:VEVENT
DTSTART;TZID=America/New_York:20251108T080000
DTEND;TZID=America/New_York:20251108T170000
DTSTAMP:20260423T180736
CREATED:20250720T154050Z
LAST-MODIFIED:20250720T154050Z
UID:1387-1762588800-1762621200@www.brandyvallance.com
SUMMARY:Pitch to me at the Seattle Online Workshop
DESCRIPTION:  \nI’ll be taking online pitches again in November with Writing Day Workshop! So excited to meet amazing authors. ♥️ Anyone can pitch from anywhere. 🎉 \ntheseattlewritingworkshop.com
URL:https://www.brandyvallance.com/event/pitch-to-me-at-the-seattle-online-workshop/
END:VEVENT
BEGIN:VEVENT
DTSTART;TZID=America/New_York:20251120T180000
DTEND;TZID=America/New_York:20251120T193000
DTSTAMP:20260423T180737
CREATED:20251103T143859Z
LAST-MODIFIED:20251103T143859Z
UID:1533-1763661600-1763667000@www.brandyvallance.com
SUMMARY:November 2025 Patreon Fireside Chat
DESCRIPTION:Join me live on Zoom! You can join my teaching platform on Patreon for FREE and then snag the coupon for The Chain Breaker in the Patreon chat (1 month free). Or\, join The Chain Breaker tier now for $25 and access hundreds of videos. The Zoom link is in The Chain Breaker thread. Must register to attend. See you there! www.Patreon.com/brandyvallance 
URL:https://www.brandyvallance.com/event/november-2025-patreon-fireside-chat/
END:VEVENT
END:VCALENDAR