BEGIN:VCALENDAR
VERSION:2.0
PRODID:-//Brandy Vallance Literary Agent &amp; Author - ECPv6.15.20//NONSGML v1.0//EN
CALSCALE:GREGORIAN
METHOD:PUBLISH
X-WR-CALNAME:Brandy Vallance Literary Agent &amp; Author
X-ORIGINAL-URL:https://www.brandyvallance.com
X-WR-CALDESC:Events for Brandy Vallance Literary Agent &amp; Author
REFRESH-INTERVAL;VALUE=DURATION:PT1H
X-Robots-Tag:noindex
X-PUBLISHED-TTL:PT1H
BEGIN:VTIMEZONE
TZID:America/New_York
BEGIN:DAYLIGHT
TZOFFSETFROM:-0500
TZOFFSETTO:-0400
TZNAME:EDT
DTSTART:20250309T070000
END:DAYLIGHT
BEGIN:STANDARD
TZOFFSETFROM:-0400
TZOFFSETTO:-0500
TZNAME:EST
DTSTART:20251102T060000
END:STANDARD
BEGIN:DAYLIGHT
TZOFFSETFROM:-0500
TZOFFSETTO:-0400
TZNAME:EDT
DTSTART:20260308T070000
END:DAYLIGHT
BEGIN:STANDARD
TZOFFSETFROM:-0400
TZOFFSETTO:-0500
TZNAME:EST
DTSTART:20261101T060000
END:STANDARD
BEGIN:DAYLIGHT
TZOFFSETFROM:-0500
TZOFFSETTO:-0400
TZNAME:EDT
DTSTART:20270314T070000
END:DAYLIGHT
BEGIN:STANDARD
TZOFFSETFROM:-0400
TZOFFSETTO:-0500
TZNAME:EST
DTSTART:20271107T060000
END:STANDARD
END:VTIMEZONE
BEGIN:VEVENT
DTSTART;TZID=America/New_York:20260307T093000
DTEND;TZID=America/New_York:20260307T170000
DTSTAMP:20260423T123317
CREATED:20250909T141052Z
LAST-MODIFIED:20250909T141417Z
UID:1440-1772875800-1772902800@www.brandyvallance.com
SUMMARY:South Carolina Writing Workshop (Charleston)
DESCRIPTION:After coordinating many successful past events around the country (including one in SC)\, Writing Day Workshops is excited to announce The 2026 South Carolina Writing Workshop — a full-day in-person “How to Get Published” writing event in Charleston\, SC on March 7\, 2026. \nThis in-person writing event is a wonderful opportunity to get intense instruction over the course of one day\, pitch a literary agent or editor (optional)\, get your questions answered\, and more. Note that there are limited seats at the event (125 total). Thank you for your interest in the 2026 South Carolina Writing Workshop! We are very proud of our many success stories where attendees sign with agents following events — see our growing list of success stories here. \n**** Brandy Vallance will be the facilitator of this conference. 
URL:https://www.brandyvallance.com/event/south-carolina-writing-workshop-charleston/
LOCATION:DoubleTree by Hilton Charleston Mount Pleasant\, 1330 Stuart Engals Blvd\, Mt Pleasant\, SC 29464\, SC\, 29464\, United States
END:VEVENT
BEGIN:VEVENT
DTSTART;TZID=America/New_York:20260314T090000
DTEND;TZID=America/New_York:20260314T170000
DTSTAMP:20260423T123317
CREATED:20250923T123021Z
LAST-MODIFIED:20250923T123628Z
UID:1477-1773478800-1773507600@www.brandyvallance.com
SUMMARY:Kansas City Writing Workshop
DESCRIPTION:After successful 2017\, 2019\, 2020\, 2022\, and 2024 events in Kansas City\, Writing Day Workshops is excited to announce The 2026 Kansas City Writing Workshop — a full-day in-person “How to Get Published” writing event in Kansas City on March 14\, 2026. \nThis writing event is a wonderful opportunity to get intense instruction over the course of one day\, pitch a literary agent or editor (optional)\, get your questions answered\, and more. Note that there are limited seats at the event (150 total). All questions about the event regarding schedule\, details and registration are answered below. Thank you for your interest in the 2026 Kansas City Writing Workshop! We are very proud of our many success stories where attendees sign with agents following events — see our growing list of success stories here. \nBrandy Vallance be facilitating and teaching at this conference. To register go to: https://kansaswritingworkshop.com
URL:https://www.brandyvallance.com/event/kansas-city-writing-workshop/
LOCATION:the Embassy Suites by Hilton Kansas City Plaza\, 220 W 43rd St\, Kansas City\, MO 64111.\, 220 W 43rd St\, Kansas City\, MO\, 64111\, United States
END:VEVENT
END:VCALENDAR